BEGIN:VCALENDAR
VERSION:2.0
PRODID:Events Booking
BEGIN:VEVENT
UID:69e53857671f6
SUMMARY:Annual General Meeting 2024
DESCRIPTION:The 2024 Annual General Meeting will be presented at the Bouche
 rville Golf Club.
 You can download the invitation and the agenda from th
 e following links:
 
 Invitation
 Agenda
 
LOCATION:300 boulevard de Mortagne\, Boucherville\, QC J4B 1B5
DTSTART:20240618T213000Z
DTEND:20240619T010000Z
DTSTAMP:20260419T201727Z
ORGANIZER;CN=ACI Québec & E.Ontario:MAILTO:info@aciquebec.com
GEO:45.586399;-73.443155
X-APPLE-STRUCTURED-LOCATION;VALUE=URI;X-ADDRESS=300 boulevard de Mortagne\,
  Boucherville\, QC J4B 1B5;X-APPLE-RADIUS=72;X-TITLE=Boucherville Golf Clu
 b:45.586399;-73.443155
END:VEVENT
END:VCALENDAR