BEGIN:VCALENDAR
VERSION:2.0
PRODID:Events Booking
BEGIN:VEVENT
UID:69e523ab48c5c
SUMMARY:Assemblée générale annuelle 2024
DESCRIPTION:L'AGA 2024 sera présentée au Club de golf de Boucherville.
 
 Vous pouvez télécharger la convocation et l'ordre du jour à partir des 
 liens suivants :
 
 Consulter la convocation
 Télécharger l'ordre du 
 jour
 
LOCATION:300 boulevard de Mortagne\, Boucherville\, QC J4B 1B5
DTSTART:20240618T213000Z
DTEND:20240619T010000Z
DTSTAMP:20260419T184915Z
ORGANIZER;CN=ACI Québec & E.Ontario:MAILTO:info@aciquebec.com
GEO:45.586399;-73.443155
X-APPLE-STRUCTURED-LOCATION;VALUE=URI;X-ADDRESS=300 boulevard de Mortagne\,
  Boucherville\, QC J4B 1B5;X-APPLE-RADIUS=72;X-TITLE=Golf de Boucherville:
 45.586399;-73.443155
END:VEVENT
END:VCALENDAR