BEGIN:VCALENDAR
VERSION:2.0
PRODID:Events Booking
BEGIN:VEVENT
UID:69e55c4c3c7fb
SUMMARY:Paiement d'une facture - sans taxe
DESCRIPTION:Paiement d'une facture (sans taxe)
LOCATION:CP 57501 BP Courville Québec Québec G1C 7W3
DTSTART:20210101T050000Z
DTEND:20270101T050000Z
DTSTAMP:20251118T021036Z
ORGANIZER;CN=ACI Québec & E.Ontario:MAILTO:info@aciquebec.com
GEO:46.887922;-71.169794
X-APPLE-STRUCTURED-LOCATION;VALUE=URI;X-ADDRESS=CP 57501 BP Courville Québ
 ec Québec G1C 7W3;X-APPLE-RADIUS=72;X-TITLE=ACI:46.887922;-71.169794
END:VEVENT
END:VCALENDAR