BEGIN:VCALENDAR
VERSION:2.0
PRODID:Events Booking
BEGIN:VEVENT
UID:69e52419ecab1
SUMMARY:Membre corporatif 2026
DESCRIPTION:&nbsp\;Adhésion annuelle corporative à la section locale pour
  l'année 2026. L'adhésion comprend :
 
 Commanditaire officiel pour to
 utes les activités de l’année en cours (séminaire du printemps\, sém
 inaire Progrès dans le domaine du béton\, assemblée générale annuelle
 \, etc.)\;
 Affichage de votre logo ainsi que les coordonnées d’une pe
 rsonne contact dans la section des commanditaires sur notre site web\;
 A
 ffichage de votre logo dans le bulletin d’information de la section loca
 le\;
 Participation aux bourses données aux étudiants lors du séminair
 e Progrès dans le domaine du béton\;
 Inscription à l'édition électr
 onique de la revue Concrete International\;
 Trois crédits permettant de
  suivre des cours offerts par l'ACI University.
 
LOCATION:CP 57501 BP Courville Québec Québec G1C 7W3
DTSTART:20260101T050000Z
DTEND:20261231T050000Z
DTSTAMP:20251207T202359Z
ORGANIZER;CN=ACI Québec & E.Ontario:MAILTO:info@aciquebec.com
GEO:46.887922;-71.169794
X-APPLE-STRUCTURED-LOCATION;VALUE=URI;X-ADDRESS=CP 57501 BP Courville Québ
 ec Québec G1C 7W3;X-APPLE-RADIUS=72;X-TITLE=ACI:46.887922;-71.169794
END:VEVENT
END:VCALENDAR